BEGIN:VCALENDAR
VERSION:2.0
PRODID:-//eventon.com NONSGML v1.0//EN
BEGIN:VEVENT
UID:69ec9eb2e761f
DTSTAMP:20260425T110002
DTSTART:20260430
DTEND:20260430
TZID:Europe/Paris
LOCATION:
SUMMARY:Appel à contributions revue Lexis
DESCRIPTION: Appel à contributions numéro spécial de la revue Lexis : avant le 30 avril 2026 : « Entre transfert et innovation linguistique : dynamiques de créativité lexicale dans l’interlangue des apprenants d’une langue additionnelle (Ln) ». Ce numéro s’intéresse aux processus de créativité lexicale et aux dynamiques entre transfert et[..]\nhttps://www.ranacles.org/events/appel-a-contributions-revue-lexis/
URL:https://www.ranacles.org/events/appel-a-contributions-revue-lexis/
END:VEVENT
END:VCALENDAR