BEGIN:VCALENDAR
VERSION:2.0
PRODID:-//eventon.com NONSGML v1.0//EN
BEGIN:VEVENT
UID:69eca11e00c7d
DTSTAMP:20260425T111022
DTSTART:20260228
DTEND:20260228
TZID:Europe/Paris
LOCATION:
SUMMARY:Appel à communications | Colloque Acedle 2027
DESCRIPTION: Le prochain colloque de l&#8217;Acedle\,  co-organisé par l&#8217;unité de recherche LiLPa\,  intitulé « Frontières\,  trans-frontières\,  sans frontières. Réflexions épistémologiques et méthodologiques pour et dans les recherches en didactique des langues-cultures » se tiendra à l&#8217;Université de Strasbourg du 13 au 15 janvier 2027. Téléchargez l&#8217;argumentaire du colloque ici. La date[..]\nhttps://www.ranacles.org/events/appel-a-communications-colloque-acedle-2027/
URL:https://www.ranacles.org/events/appel-a-communications-colloque-acedle-2027/
END:VEVENT
END:VCALENDAR