BEGIN:VCALENDAR
VERSION:2.0
PRODID:-//eventon.com NONSGML v1.0//EN
BEGIN:VEVENT
UID:69ec9d9dafe94
DTSTAMP:20260425T105525
DTSTART:20260126T170000Z
DTEND:20260126T180000Z
TZID:Europe/Paris
LOCATION:
SUMMARY:Zoom RANACLES
DESCRIPTION: Pour échanger sur l’actualité des langues dans nos établissements\,  votre association RANACLES propose régulièrement un rendez-vous Zoom. Selon les semaines\,  nous traitons diverses questions et partageons nos expériences : certifications\,  offres de formation\,  réflexions pédagogiques\,  outils numériques\,  etc… &nbsp; Prochain rendez-vous Zoom : lundi 26 janvier 2026 de 18h00 à[..]\nhttps://www.ranacles.org/events/zoom-ranacles-7/
URL:https://www.ranacles.org/events/zoom-ranacles-7/
END:VEVENT
END:VCALENDAR