BEGIN:VCALENDAR
VERSION:2.0
PRODID:-//eventon.com NONSGML v1.0//EN
BEGIN:VEVENT
UID:69eca238e563e
DTSTAMP:20260425T111504
DTSTART:20260327T070000Z
DTEND:20260327T180000Z
TZID:Europe/Paris
LOCATION:
SUMMARY:Journée Notions en Questions (NeQ) en didactique des langues Acedle
DESCRIPTION: Vendredi 27 mars 2026 avec Acedle : Save the date! Termin vormerken! ¡Anótate la fecha! A vos agendas ! Journée Notions en Questions (NeQ) en didactique des langues : &#8220;Les besoins en formation des enseignants de langues-cultures&#8221;. Avec  l&#8217;Inspé de Lorraine (Université de Lorraine\,  ATILF) et de Paris (Sorbonne Université\,  CELISO)[..]\nhttps://www.ranacles.org/events/journeeneq-acedle/
URL:https://www.ranacles.org/events/journeeneq-acedle/
END:VEVENT
END:VCALENDAR