BEGIN:VCALENDAR
VERSION:2.0
PRODID:-//eventon.com NONSGML v1.0//EN
BEGIN:VEVENT
UID:69eca7202b089
DTSTAMP:20260425T113600
DTSTART:20250630T160000Z
DTEND:20250630T170000Z
TZID:Europe/Paris
LOCATION:
SUMMARY:Zoom RANACLES
DESCRIPTION: Pour échanger sur l’actualité des langues dans nos établissements\,  votre association RANACLES propose régulièrement un rendez-vous Zoom. Selon les semaines\,  nous traitons diverses questions et partageons nos expériences : certifications\,  offres de formation\,  réflexions pédagogiques\,  outils numériques\,  etc… &nbsp; Prochain rendez-vous Zoom : lundi 30 juin 2025 de 18h00 à[..]\nhttps://www.ranacles.org/events/zoom-ranacles-4/
URL:https://www.ranacles.org/events/zoom-ranacles-4/
END:VEVENT
END:VCALENDAR