BEGIN:VCALENDAR
VERSION:2.0
PRODID:-//eventon.com NONSGML v1.0//EN
BEGIN:VEVENT
UID:69ecb59891e98
DTSTAMP:20260425T123744
DTSTART:20250512T160000Z
DTEND:20250512T170000Z
TZID:Europe/Paris
LOCATION:
SUMMARY:Zoom RANACLES
DESCRIPTION: Pour échanger sur l’actualité des langues dans nos établissements\,  votre association RANACLES propose régulièrement un rendez-vous Zoom. Selon les semaines\,  nous traitons diverses questions et partageons nos expériences : certifications\,  offres de formation\,  réflexions pédagogiques\,  outils numériques\,  etc… &nbsp; Prochain rendez-vous Zoom : lundi 12 mai 2025 de 18h00 à[..]\nhttps://www.ranacles.org/events/zoom-ranacles-3/
URL:https://www.ranacles.org/events/zoom-ranacles-3/
END:VEVENT
END:VCALENDAR